BEGIN:VCALENDAR
VERSION:2.0
PRODID:-//Le Bulletin - Official Magazine of French International School of Hong Kong - ECPv6.9.0//NONSGML v1.0//EN
CALSCALE:GREGORIAN
METHOD:PUBLISH
X-ORIGINAL-URL:https://lebulletin.info
X-WR-CALDESC:Events for Le Bulletin - Official Magazine of French International School of Hong Kong
REFRESH-INTERVAL;VALUE=DURATION:PT1H
X-Robots-Tag:noindex
X-PUBLISHED-TTL:PT1H
BEGIN:VTIMEZONE
TZID:Asia/Shanghai
BEGIN:STANDARD
TZOFFSETFROM:+0800
TZOFFSETTO:+0800
TZNAME:CST
DTSTART:20240101T000000
END:STANDARD
END:VTIMEZONE
BEGIN:VEVENT
DTSTART;TZID=Asia/Shanghai:20241115T200000
DTEND;TZID=Asia/Shanghai:20241115T213000
DTSTAMP:20260422T164338
CREATED:20241029T073957Z
LAST-MODIFIED:20241104T085045Z
UID:10000015-1731700800-1731706200@lebulletin.info
SUMMARY:Peau d'Âne
DESCRIPTION:CHORUS presents two performances of the play "PEAU D’ÂNE" on November 15 and 16. \nThe profits will be donated to the LFI Solidarity Fund. \n"PEAU D’ÂNE" is a modern and magical adaptation of Charles Perrault's tale. Marion Demeneix\, FIS teacher in charge of CHORUS drama activities\, will direct the production. \n\n15th November: https://ticketdood.com/e/495/peau-dane-15112024\n16th November: https://ticketdood.com/e/497/peau-dane-16112024\n\n  \nDownload QR Code\n                Print QR Code
URL:https://lebulletin.info/event/peau-dane/
LOCATION:Youth Square (Y Studio) CHAI WAN\, 2F\, Youth Square\, 238 Chai Wan Rd\, Chai Wan\, Hong Kong\, Hong Kong
ATTACH;FMTTYPE=image/png:https://lebulletin.info/wp-content/uploads/2024/10/thumbnail-resizing-01-7.png
END:VEVENT
END:VCALENDAR