BEGIN:VCALENDAR
VERSION:2.0
PRODID:-//Le Bulletin - Official Magazine of French International School of Hong Kong - ECPv6.9.0//NONSGML v1.0//EN
CALSCALE:GREGORIAN
METHOD:PUBLISH
X-ORIGINAL-URL:https://lebulletin.info
X-WR-CALDESC:Events for Le Bulletin - Official Magazine of French International School of Hong Kong
REFRESH-INTERVAL;VALUE=DURATION:PT1H
X-Robots-Tag:noindex
X-PUBLISHED-TTL:PT1H
BEGIN:VTIMEZONE
TZID:Asia/Hong_Kong
BEGIN:STANDARD
TZOFFSETFROM:+0800
TZOFFSETTO:+0800
TZNAME:HKT
DTSTART:20240101T000000
END:STANDARD
END:VTIMEZONE
BEGIN:VEVENT
DTSTART;VALUE=DATE:20241120
DTEND;VALUE=DATE:20241124
DTSTAMP:20260422T164313
CREATED:20241120T033214Z
LAST-MODIFIED:20241120T033605Z
UID:10000027-1732060800-1732406399@lebulletin.info
SUMMARY:Chers Parents
DESCRIPTION:Shows \n\n20th November: 8:00 - 10:00 pm\n21st November: 8:00 - 10:00 pm\n22nd November: 8:00 - 10:00 pm\n23rd November: 6:00 - 8:00 pm\n\n\n"Come quickly\, we have something very important to tell you. P.S. We love you!"\nIt’s with these enigmatic words that Pierre\, Jules\, and Louise rush to their parents’ house. Expecting the worst\, the siblings are in for quite a surprise! But\, as with all families\, nothing ever goes as planned\, and Jeanne and Vincent might soon find themselves surprised by their children! \n"Chers Parents" is a family comedy in every sense of the word! Between surprises\, laughter\, disagreements\, and reflections\, everyone will find a little bit of their own family in it. A play that will delight audiences from the age of 10 and up. \nA whirlwind of emotions awaits\, leaving you with the same question: And you\, how would you have reacted? \n\n\n\n\n“Dear Parents” is a successful play from the French repertoire\, written by Armelle & Emmanuel Patron\, performed in French with surtitles in English\, directed by Agnes Seelinger with Thomas Flament. \nAlong with the artistic team\, the actors -Bertrand Leduby\, Charlotte Gryson\, Gaelle Neau\, Jean-Baptiste Peloux and Paul Milon - and the production team are all volunteers. \nAll funds raised through this event will be dedicated to the renovation of the roof in PSE center in Phnom Penh. \n\n\nDownload QR Code\n                Print QR Code
URL:https://lebulletin.info/event/chers-parents-2/
LOCATION:FIS Tseung Kwan O Campus\, 28 Tong Yin Street\, Tseung Kwan O\, Hong Kong
ATTACH;FMTTYPE=image/jpeg:https://lebulletin.info/wp-content/uploads/2024/10/https___cdn.evbuc_.com_images_854421439_1969474638043_1_original.jpeg
END:VEVENT
END:VCALENDAR