BEGIN:VCALENDAR
VERSION:2.0
PRODID:-//Le Bulletin - Official Magazine of French International School of Hong Kong - ECPv6.9.0//NONSGML v1.0//EN
CALSCALE:GREGORIAN
METHOD:PUBLISH
X-WR-CALNAME:Le Bulletin - Official Magazine of French International School of Hong Kong
X-ORIGINAL-URL:https://lebulletin.info
X-WR-CALDESC:Events for Le Bulletin - Official Magazine of French International School of Hong Kong
REFRESH-INTERVAL;VALUE=DURATION:PT1H
X-Robots-Tag:noindex
X-PUBLISHED-TTL:PT1H
BEGIN:VTIMEZONE
TZID:Asia/Hong_Kong
BEGIN:STANDARD
TZOFFSETFROM:+0800
TZOFFSETTO:+0800
TZNAME:HKT
DTSTART:20240101T000000
END:STANDARD
END:VTIMEZONE
BEGIN:VEVENT
DTSTART;TZID=Asia/Hong_Kong:20241207T100000
DTEND;TZID=Asia/Hong_Kong:20241207T160000
DTSTAMP:20260422T010932
CREATED:20241104T091211Z
LAST-MODIFIED:20241104T091211Z
UID:10000022-1733565600-1733587200@lebulletin.info
SUMMARY:Garage Sale
DESCRIPTION:Enjoy a music show\, movie screening\, food & drinks\, and exciting treasure finds—a day filled with fun for the entire family. \n10 REASONS TO JOIN OUR GARAGE SALE\n\n1- By taking part in the garage sale as a seller you will be able to support Salvation Army : all unsold items at the end of the day can be donated to the Salvation Army ( FISCA will take care of the logistics)\n2- It will be a great opportunity to buy second hand Christmas gifts.\n3- You will get in the Christmas mood with festive food and drinks\, the FIS Christmas choir\, and a family favorite Christmas movie in the auditorium\n4- Kids will be able to enjoy face painting and recycled paper making workshop\n5- The FIS garage sale is also an opportunity to do good. Part of the proceeds will go to give a second life to the school’s unused books by sending then to rural schools in Djibouti.\n6- There will be a Second-hand uniform sales with Mayaa\n7- During the day participants will have the opportunity to partake the sustainability tour of school. A great way to learn more about sustainability in general and what FIS does to support it in particular.\n8- Partaking in the garage sale is also a great way for the kids to get a sales learning experience\, make extra cash and for the community to get together before the Christmas break.\n9- There will be music concerts by M. Constantini’s students throughout the day.\n10- A recognition award ceremony will be held in the TKO holistic pedagogical garden to thank Hermès for their generous contribution.\n\n  \nWE ARE LOOKING FOR BOTH SELLERS AND EVENT VOLUNTEERS!\nWhether you want to declutter sustainably\, contribute to charity\, or support fellow parents and students\, this Garage Sale is for you! Whether you want to declutter sustainably\, contribute to charity\, or support fellow parents and students\, this Garage Sale is for you! \nIf you are interested in selling or volunteering\, please fill out the Registration Form. \nDownload QR Code\n                Print QR Code
URL:https://lebulletin.info/event/garage-sale/
LOCATION:FIS Tseung Kwan O Campus\, 28 Tong Yin Street\, Tseung Kwan O\, Hong Kong
ATTACH;FMTTYPE=image/png:https://lebulletin.info/wp-content/uploads/2024/11/02-01.png
END:VEVENT
END:VCALENDAR