BEGIN:VCALENDAR
VERSION:2.0
PRODID:-//Le Bulletin - Official Magazine of French International School of Hong Kong - ECPv6.9.0//NONSGML v1.0//EN
CALSCALE:GREGORIAN
METHOD:PUBLISH
X-WR-CALNAME:Le Bulletin - Official Magazine of French International School of Hong Kong
X-ORIGINAL-URL:https://lebulletin.info
X-WR-CALDESC:Events for Le Bulletin - Official Magazine of French International School of Hong Kong
REFRESH-INTERVAL;VALUE=DURATION:PT1H
X-Robots-Tag:noindex
X-PUBLISHED-TTL:PT1H
BEGIN:VTIMEZONE
TZID:Asia/Hong_Kong
BEGIN:STANDARD
TZOFFSETFROM:+0800
TZOFFSETTO:+0800
TZNAME:HKT
DTSTART:20260101T000000
END:STANDARD
END:VTIMEZONE
BEGIN:VEVENT
DTSTART;TZID=Asia/Hong_Kong:20260321T183000
DTEND;TZID=Asia/Hong_Kong:20260321T233000
DTSTAMP:20260420T183157
CREATED:20250910T025026Z
LAST-MODIFIED:20251126T041804Z
UID:10000054-1774117800-1774135800@lebulletin.info
SUMMARY:The FIS "Dream Big" Benefit Gala
DESCRIPTION:We are delighted to extend a very special invitation to our 2026 Benefit Gala: A Night to Dream Big. \nThis special event is more than just a celebration; it's a vital part of our mission to provide an exceptional education for every student. As a non-profit school\, our greatest magic comes from you. Every ticket you purchase will be used to support our 2026 annual fund initiatives including our science labs and drama room\, creating spaces where our students' biggest dreams in STEM and the arts can take flight. \nWe are thrilled to offer Early Bird pricing for a limited time. \nReserve Your Early Bird Tickets Now \nExtend the magic of our 'Dream Big' gala by honoring an inspiring FIS Team Member! Fund a seat or donate to fund a seat.  \nWe cannot wait to celebrate with you for a magical night and turn our students' boldest dreams into reality\, together. \n \n  \n  \nDownload QR Code\n                Print QR Code
URL:https://lebulletin.info/event/the-fis-dream-big-benefit-gala/
LOCATION:Tseung Kwan O
ATTACH;FMTTYPE=image/png:https://lebulletin.info/wp-content/uploads/2025/09/undefined.png
END:VEVENT
END:VCALENDAR