BEGIN:VCALENDAR
VERSION:2.0
PRODID:-//Le Bulletin - Official Magazine of French International School of Hong Kong - ECPv6.9.0//NONSGML v1.0//EN
CALSCALE:GREGORIAN
METHOD:PUBLISH
X-WR-CALNAME:Le Bulletin - Official Magazine of French International School of Hong Kong
X-ORIGINAL-URL:https://lebulletin.info
X-WR-CALDESC:Évènements pour Le Bulletin - Official Magazine of French International School of Hong Kong
REFRESH-INTERVAL;VALUE=DURATION:PT1H
X-Robots-Tag:noindex
X-PUBLISHED-TTL:PT1H
BEGIN:VTIMEZONE
TZID:Asia/Shanghai
BEGIN:STANDARD
TZOFFSETFROM:+0800
TZOFFSETTO:+0800
TZNAME:CST
DTSTART:20240101T000000
END:STANDARD
END:VTIMEZONE
BEGIN:VEVENT
DTSTART;TZID=Asia/Shanghai:20241116T160000
DTEND;TZID=Asia/Shanghai:20241116T173000
DTSTAMP:20260422T181109
CREATED:20241029T072718Z
LAST-MODIFIED:20241104T082405Z
UID:10000013-1731772800-1731778200@lebulletin.info
SUMMARY:Peau d'Âne
DESCRIPTION:CHORUS présente le 15 et 16 novembre deux représentations de théâtre : « PEAU D’ÂNE ». \nLes profits seront reversés au Fonds de Solidarité du LFI. \nCe spectacle s’adresse aux élèves ainsi qu’à leurs parents. PEAU D’ÂNE est une adaptation moderne et féerique du conte de Charles Perrault. \nMarion Demeneix\, enseignante au LFI et responsable des activités théâtre de CHORUS\, assure la mise en scène. \n\n15 novembre: https://ticketdood.com/e/495/peau-dane-15112024\n16 novembre: https://ticketdood.com/e/497/peau-dane-16112024\n\nDownload QR Code\n                Print QR Code
URL:https://lebulletin.info/event/peau-dane-3/
LOCATION:Youth Square (Y Studio) CHAI WAN\, 2F\, Youth Square\, 238 Chai Wan Rd\, Chai Wan\, Hong Kong\, Hong Kong
ATTACH;FMTTYPE=image/png:https://lebulletin.info/wp-content/uploads/2024/10/thumbnail-resizing-01-7.png
END:VEVENT
END:VCALENDAR