BEGIN:VCALENDAR
VERSION:2.0
PRODID:-//Le Bulletin - Official Magazine of French International School of Hong Kong - ECPv6.9.0//NONSGML v1.0//EN
CALSCALE:GREGORIAN
METHOD:PUBLISH
X-WR-CALNAME:Le Bulletin - Official Magazine of French International School of Hong Kong
X-ORIGINAL-URL:https://lebulletin.info
X-WR-CALDESC:Évènements pour Le Bulletin - Official Magazine of French International School of Hong Kong
REFRESH-INTERVAL;VALUE=DURATION:PT1H
X-Robots-Tag:noindex
X-PUBLISHED-TTL:PT1H
BEGIN:VTIMEZONE
TZID:Asia/Hong_Kong
BEGIN:STANDARD
TZOFFSETFROM:+0800
TZOFFSETTO:+0800
TZNAME:HKT
DTSTART:20260101T000000
END:STANDARD
END:VTIMEZONE
BEGIN:VEVENT
DTSTART;TZID=Asia/Hong_Kong:20260514T080000
DTEND;TZID=Asia/Hong_Kong:20260514T170000
DTSTAMP:20260424T172653
CREATED:20260423T053309Z
LAST-MODIFIED:20260423T053309Z
UID:10000081-1778745600-1778778000@lebulletin.info
SUMMARY:Assemblée Générale Annuelle 2026
DESCRIPTION:Tous les membres ainsi que les membres de la communauté du LFI sont cordialement invités à participer à l’assemblée générale annuelle (“AG”) de la French International School ‘Victor Segalen’ Association Limited (l“Association”). L’AG se déroulera de façon hybride à l’auditorium du campus de Tseung Kwan O\, situé au 28 Tong Yin Street\, Tseung Kwan O\, Hong Kong\, ainsi qu’en ligne. \nConsulter la notice version web \nDownload QR Code\n                Print QR Code
URL:https://lebulletin.info/event/assemblee-generale-annuelle-2026/
LOCATION:FIS Tseung Kwan O Campus\, 28 Tong Yin Street\, Tseung Kwan O\, Hong Kong
ATTACH;FMTTYPE=image/png:https://lebulletin.info/wp-content/uploads/2026/04/AGM-2026.png
END:VEVENT
BEGIN:VEVENT
DTSTART;TZID=Asia/Hong_Kong:20260606T080000
DTEND;TZID=Asia/Hong_Kong:20260606T170000
DTSTAMP:20260424T172653
CREATED:20260423T040616Z
LAST-MODIFIED:20260423T050127Z
UID:10000079-1780732800-1780765200@lebulletin.info
SUMMARY:Family Fun Fair\, la kermesse du LFI
DESCRIPTION:Chers membres de la communauté du LFI\, \nNotre Family Fun Fair est de retour ! Nous avons hâte de vous retrouver à l'occasion de cette journée riche en activités pour célébrer la fin de l'année ensemble\, et en famille ! Au programme : château gonflable\, maquillage pour enfant\, stands de vendeurs et de nourriture\, et plus encore ! \n \n  \nLes détails pratiques vous seront communiqués très prochainement\, mais en attendant\, marquez dès maintenant cette date dans vos agendas ! \nCette tradition fête sa 4ᵉ année cette année\, et nous comptons sur vous pour en faire un nouveau succès. Que ce soit pour la planification ou l’organisation le jour J\, votre aide est précieuse pour perpétuer cette belle aventure. \nSi vous souhaitez nous prêter main-forte\, merci de remplir ce formulaire. \nEnfin\, notre bourse aux livres fera son grand retour elle aussi ! En attendant de connaitre les points de collecte sur chacun des campus\, nous vous invitons à commencer à faire le tri dans vos livres dès maintenant ! \n \nDownload QR Code\n                Print QR Code
URL:https://lebulletin.info/event/family-fun-fair-la-kermesse-du-lfi/
ATTACH;FMTTYPE=image/png:https://lebulletin.info/wp-content/uploads/2026/04/2026-Family-Fun-Fair-Flyer.png
END:VEVENT
END:VCALENDAR